Package: mobileRNA Version: 1.2.0 Command: /Library/Frameworks/R.framework/Resources/bin/R CMD INSTALL mobileRNA StartedAt: 2025-02-03 17:00:56 -0500 (Mon, 03 Feb 2025) EndedAt: 2025-02-03 17:01:39 -0500 (Mon, 03 Feb 2025) EllapsedTime: 43.2 seconds RetCode: 0 Status: OK