Package: mobileRNA Version: 1.2.0 Command: /Library/Frameworks/R.framework/Resources/bin/R CMD check --install=check:mobileRNA.install-out.txt --library=/Library/Frameworks/R.framework/Resources/library --no-vignettes --timings mobileRNA_1.2.0.tar.gz StartedAt: 2025-02-04 06:34:40 -0500 (Tue, 04 Feb 2025) EndedAt: 2025-02-04 06:45:33 -0500 (Tue, 04 Feb 2025) EllapsedTime: 652.0 seconds RetCode: 0 Status: OK CheckDir: mobileRNA.Rcheck Warnings: 0