Package: mobileRNA Version: 1.2.0 Command: /home/biocbuild/bbs-3.20-bioc/R/bin/R CMD INSTALL mobileRNA StartedAt: 2025-02-03 15:48:18 -0500 (Mon, 03 Feb 2025) EndedAt: 2025-02-03 15:49:00 -0500 (Mon, 03 Feb 2025) EllapsedTime: 41.8 seconds RetCode: 0 Status: OK