Package: mobileRNA Version: 1.2.0 Command: chmod a+r mobileRNA -R && F:\biocbuild\bbs-3.20-bioc\R\bin\R.exe CMD build --keep-empty-dirs --no-resave-data mobileRNA StartedAt: 2025-02-10 20:22:17 -0500 (Mon, 10 Feb 2025) EndedAt: 2025-02-10 20:24:49 -0500 (Mon, 10 Feb 2025) EllapsedTime: 151.5 seconds RetCode: 0 Status: OK PackageFile: mobileRNA_1.2.0.tar.gz PackageFileSize: 2.857 MiB