Package: mobileRNA Version: 1.2.0 Command: F:\biocbuild\bbs-3.20-bioc\R\bin\R.exe CMD check --no-multiarch --install=check:mobileRNA.install-out.txt --library=F:\biocbuild\bbs-3.20-bioc\R\library --no-vignettes --timings mobileRNA_1.2.0.tar.gz StartedAt: 2025-02-04 03:53:12 -0500 (Tue, 04 Feb 2025) EndedAt: 2025-02-04 03:59:07 -0500 (Tue, 04 Feb 2025) EllapsedTime: 354.3 seconds RetCode: 0 Status: OK CheckDir: mobileRNA.Rcheck Warnings: 0