Package: mobileRNA Version: 1.2.0 Command: /home/biocbuild/R/R/bin/R CMD build --keep-empty-dirs --no-resave-data mobileRNA StartedAt: 2025-02-04 01:04:47 -0000 (Tue, 04 Feb 2025) EndedAt: 2025-02-04 01:06:51 -0000 (Tue, 04 Feb 2025) EllapsedTime: 124.1 seconds RetCode: 0 Status: OK PackageFile: mobileRNA_1.2.0.tar.gz PackageFileSize: 2.951 MiB