Package: mobileRNA Version: 1.2.0 Command: /home/biocbuild/R/R/bin/R CMD check --install=check:mobileRNA.install-out.txt --library=/home/biocbuild/R/R/site-library --no-vignettes --timings mobileRNA_1.2.0.tar.gz StartedAt: 2025-02-04 08:55:48 -0000 (Tue, 04 Feb 2025) EndedAt: 2025-02-04 09:01:52 -0000 (Tue, 04 Feb 2025) EllapsedTime: 364.5 seconds RetCode: 0 Status: OK CheckDir: mobileRNA.Rcheck Warnings: 0