Package: mogsa Version: 1.40.0 Command: rm -rf mogsa.buildbin-libdir && mkdir mogsa.buildbin-libdir && /Users/biocbuild/BBS/utils/build-universal.sh mogsa_1.40.0.tar.gz /Library/Frameworks/R.framework/Resources/bin/R mogsa.buildbin-libdir StartedAt: 2025-02-05 16:44:02 -0500 (Wed, 05 Feb 2025) EndedAt: 2025-02-05 16:44:34 -0500 (Wed, 05 Feb 2025) EllapsedTime: 31.2 seconds RetCode: 0 Status: OK PackageFile: mogsa_1.40.0.tgz PackageFileSize: 1.214 MiB