Package: mogsa Version: 1.40.0 Command: /Library/Frameworks/R.framework/Resources/bin/R CMD build --keep-empty-dirs --no-resave-data mogsa StartedAt: 2025-02-04 03:50:33 -0500 (Tue, 04 Feb 2025) EndedAt: 2025-02-04 03:53:22 -0500 (Tue, 04 Feb 2025) EllapsedTime: 169.4 seconds RetCode: 0 Status: OK PackageFile: mogsa_1.40.0.tar.gz PackageFileSize: 775.4 KiB