Package: mogsa Version: 1.40.0 Command: /Library/Frameworks/R.framework/Resources/bin/R CMD check --install=check:mogsa.install-out.txt --library=/Library/Frameworks/R.framework/Resources/library --no-vignettes --timings mogsa_1.40.0.tar.gz StartedAt: 2025-02-05 02:29:35 -0500 (Wed, 05 Feb 2025) EndedAt: 2025-02-05 02:32:27 -0500 (Wed, 05 Feb 2025) EllapsedTime: 172.1 seconds RetCode: 0 Status: OK CheckDir: mogsa.Rcheck Warnings: 0