Package: mogsa Version: 1.40.0 Command: rm -rf mogsa.buildbin-libdir && mkdir mogsa.buildbin-libdir && /Users/biocbuild/BBS/utils/build-universal.sh mogsa_1.40.0.tar.gz /Library/Frameworks/R.framework/Resources/bin/R mogsa.buildbin-libdir StartedAt: 2025-01-31 13:12:09 -0500 (Fri, 31 Jan 2025) EndedAt: 2025-01-31 13:13:03 -0500 (Fri, 31 Jan 2025) EllapsedTime: 54.2 seconds RetCode: 0 Status: OK PackageFile: mogsa_1.40.0.tgz PackageFileSize: 1.213 MiB