Package: mogsa Version: 1.40.0 Command: /Library/Frameworks/R.framework/Resources/bin/R CMD build --keep-empty-dirs --no-resave-data mogsa StartedAt: 2025-01-30 20:52:10 -0500 (Thu, 30 Jan 2025) EndedAt: 2025-01-30 20:59:37 -0500 (Thu, 30 Jan 2025) EllapsedTime: 446.9 seconds RetCode: 0 Status: OK PackageFile: mogsa_1.40.0.tar.gz PackageFileSize: 774.8 KiB