Package: mogsa Version: 1.40.0 Command: /home/biocbuild/bbs-3.20-bioc/R/bin/R CMD check --install=check:mogsa.install-out.txt --library=/home/biocbuild/bbs-3.20-bioc/R/site-library --timings mogsa_1.40.0.tar.gz StartedAt: 2025-02-04 00:17:58 -0500 (Tue, 04 Feb 2025) EndedAt: 2025-02-04 00:22:13 -0500 (Tue, 04 Feb 2025) EllapsedTime: 255.2 seconds RetCode: 0 Status: OK CheckDir: mogsa.Rcheck Warnings: 0