Package: monaLisa Version: 1.12.0 Command: /Library/Frameworks/R.framework/Resources/bin/R CMD INSTALL monaLisa StartedAt: 2025-02-03 17:27:57 -0500 (Mon, 03 Feb 2025) EndedAt: 2025-02-03 17:28:50 -0500 (Mon, 03 Feb 2025) EllapsedTime: 53.2 seconds RetCode: 0 Status: OK