Package: monaLisa Version: 1.12.0 Command: /Library/Frameworks/R.framework/Resources/bin/R CMD build --keep-empty-dirs --no-resave-data monaLisa StartedAt: 2025-02-03 20:27:57 -0500 (Mon, 03 Feb 2025) EndedAt: 2025-02-03 20:38:51 -0500 (Mon, 03 Feb 2025) EllapsedTime: 654.2 seconds RetCode: 0 Status: OK PackageFile: monaLisa_1.12.0.tar.gz PackageFileSize: 6.095 MiB