Package: monaLisa Version: 1.12.0 Command: /home/biocbuild/bbs-3.20-bioc/R/bin/R CMD build --keep-empty-dirs --no-resave-data --md5 monaLisa StartedAt: 2025-02-03 18:18:14 -0500 (Mon, 03 Feb 2025) EndedAt: 2025-02-03 18:22:27 -0500 (Mon, 03 Feb 2025) EllapsedTime: 253.3 seconds RetCode: 0 Status: OK PackageFile: monaLisa_1.12.0.tar.gz PackageFileSize: 5.268 MiB