Package: monaLisa Version: 1.12.0 Command: /home/biocbuild/bbs-3.20-bioc/R/bin/R CMD INSTALL monaLisa StartedAt: 2025-02-03 15:55:24 -0500 (Mon, 03 Feb 2025) EndedAt: 2025-02-03 15:56:15 -0500 (Mon, 03 Feb 2025) EllapsedTime: 50.5 seconds RetCode: 0 Status: OK