Package: monaLisa Version: 1.12.0 Command: rm -rf monaLisa.buildbin-libdir && mkdir monaLisa.buildbin-libdir && F:\biocbuild\bbs-3.20-bioc\R\bin\R.exe CMD INSTALL --build --library=monaLisa.buildbin-libdir monaLisa_1.12.0.tar.gz StartedAt: 2025-01-31 09:05:18 -0500 (Fri, 31 Jan 2025) EndedAt: 2025-01-31 09:06:23 -0500 (Fri, 31 Jan 2025) EllapsedTime: 64.8 seconds RetCode: 0 Status: OK PackageFile: monaLisa_1.12.0.zip PackageFileSize: 4.374 MiB