Package: monaLisa Version: 1.12.0 Command: chmod a+r monaLisa -R && F:\biocbuild\bbs-3.20-bioc\R\bin\R.exe CMD build --keep-empty-dirs --no-resave-data monaLisa StartedAt: 2025-02-03 20:28:58 -0500 (Mon, 03 Feb 2025) EndedAt: 2025-02-03 20:36:05 -0500 (Mon, 03 Feb 2025) EllapsedTime: 426.3 seconds RetCode: 0 Status: OK PackageFile: monaLisa_1.12.0.tar.gz PackageFileSize: 4.192 MiB