Package: monaLisa Version: 1.12.0 Command: /home/biocbuild/R/R/bin/R CMD INSTALL monaLisa StartedAt: 2025-02-03 21:10:04 -0000 (Mon, 03 Feb 2025) EndedAt: 2025-02-03 21:11:01 -0000 (Mon, 03 Feb 2025) EllapsedTime: 56.7 seconds RetCode: 0 Status: OK