Package: monocle Version: 2.34.0 Command: rm -rf monocle.buildbin-libdir && mkdir monocle.buildbin-libdir && /Users/biocbuild/BBS/utils/build-universal.sh monocle_2.34.0.tar.gz /Library/Frameworks/R.framework/Resources/bin/R monocle.buildbin-libdir StartedAt: 2025-02-05 16:44:26 -0500 (Wed, 05 Feb 2025) EndedAt: 2025-02-05 16:44:54 -0500 (Wed, 05 Feb 2025) EllapsedTime: 28.4 seconds RetCode: 0 Status: OK PackageFile: monocle_2.34.0.tgz PackageFileSize: 1.434 MiB