Package: monocle Version: 2.34.0 Command: /Library/Frameworks/R.framework/Resources/bin/R CMD build --keep-empty-dirs --no-resave-data monocle StartedAt: 2025-02-04 03:52:49 -0500 (Tue, 04 Feb 2025) EndedAt: 2025-02-04 03:53:27 -0500 (Tue, 04 Feb 2025) EllapsedTime: 38.3 seconds RetCode: 0 Status: OK PackageFile: monocle_2.34.0.tar.gz PackageFileSize: 9.006 MiB