Package: monocle Version: 2.34.0 Command: rm -rf monocle.buildbin-libdir && mkdir monocle.buildbin-libdir && /Users/biocbuild/BBS/utils/build-universal.sh monocle_2.34.0.tar.gz /Library/Frameworks/R.framework/Resources/bin/R monocle.buildbin-libdir StartedAt: 2025-02-04 13:29:34 -0500 (Tue, 04 Feb 2025) EndedAt: 2025-02-04 13:31:03 -0500 (Tue, 04 Feb 2025) EllapsedTime: 89.0 seconds RetCode: 0 Status: OK PackageFile: monocle_2.34.0.tgz PackageFileSize: 1.436 MiB