Package: monocle Version: 2.34.0 Command: /Library/Frameworks/R.framework/Resources/bin/R CMD INSTALL monocle StartedAt: 2025-02-10 15:11:19 -0500 (Mon, 10 Feb 2025) EndedAt: 2025-02-10 15:12:07 -0500 (Mon, 10 Feb 2025) EllapsedTime: 47.3 seconds RetCode: 0 Status: OK