Package: monocle Version: 2.34.0 Command: F:\biocbuild\bbs-3.20-bioc\R\bin\R.exe CMD INSTALL monocle StartedAt: 2025-02-03 15:44:00 -0500 (Mon, 03 Feb 2025) EndedAt: 2025-02-03 15:45:12 -0500 (Mon, 03 Feb 2025) EllapsedTime: 71.7 seconds RetCode: 0 Status: OK