Package: mosaics Version: 2.44.0 Command: /Library/Frameworks/R.framework/Resources/bin/R CMD check --install=check:mosaics.install-out.txt --library=/Library/Frameworks/R.framework/Resources/library --no-vignettes --timings mosaics_2.44.0.tar.gz StartedAt: 2025-02-05 02:34:06 -0500 (Wed, 05 Feb 2025) EndedAt: 2025-02-05 02:37:34 -0500 (Wed, 05 Feb 2025) EllapsedTime: 208.1 seconds RetCode: 0 Status: OK CheckDir: mosaics.Rcheck Warnings: 0