Package: mosaics Version: 2.44.0 Command: /Library/Frameworks/R.framework/Resources/bin/R CMD build --keep-empty-dirs --no-resave-data mosaics StartedAt: 2025-02-03 20:29:00 -0500 (Mon, 03 Feb 2025) EndedAt: 2025-02-03 20:36:19 -0500 (Mon, 03 Feb 2025) EllapsedTime: 439.5 seconds RetCode: 0 Status: OK PackageFile: mosaics_2.44.0.tar.gz PackageFileSize: 2.043 MiB