Package: mosaics Version: 2.44.0 Command: /home/biocbuild/bbs-3.20-bioc/R/bin/R CMD build --keep-empty-dirs --no-resave-data --md5 mosaics StartedAt: 2025-02-10 18:11:28 -0500 (Mon, 10 Feb 2025) EndedAt: 2025-02-10 18:13:54 -0500 (Mon, 10 Feb 2025) EllapsedTime: 146.1 seconds RetCode: 0 Status: OK PackageFile: mosaics_2.44.0.tar.gz PackageFileSize: 2.047 MiB