Package: mosaics Version: 2.44.0 Command: /home/biocbuild/bbs-3.20-bioc/R/bin/R CMD check --install=check:mosaics.install-out.txt --library=/home/biocbuild/bbs-3.20-bioc/R/site-library --timings mosaics_2.44.0.tar.gz StartedAt: 2025-02-04 00:19:59 -0500 (Tue, 04 Feb 2025) EndedAt: 2025-02-04 00:24:42 -0500 (Tue, 04 Feb 2025) EllapsedTime: 283.3 seconds RetCode: 0 Status: OK CheckDir: mosaics.Rcheck Warnings: 0