Package: mosaics Version: 2.44.0 Command: /home/biocbuild/R/R/bin/R CMD build --keep-empty-dirs --no-resave-data mosaics StartedAt: 2025-02-11 00:54:59 -0000 (Tue, 11 Feb 2025) EndedAt: 2025-02-11 00:58:10 -0000 (Tue, 11 Feb 2025) EllapsedTime: 191.1 seconds RetCode: 0 Status: OK PackageFile: mosaics_2.44.0.tar.gz PackageFileSize: 2.031 MiB