Package: mosaics Version: 2.44.0 Command: /home/biocbuild/R/R/bin/R CMD check --install=check:mosaics.install-out.txt --library=/home/biocbuild/R/R/site-library --no-vignettes --timings mosaics_2.44.0.tar.gz StartedAt: 2025-02-11 08:16:11 -0000 (Tue, 11 Feb 2025) EndedAt: 2025-02-11 08:19:44 -0000 (Tue, 11 Feb 2025) EllapsedTime: 212.2 seconds RetCode: 0 Status: OK CheckDir: mosaics.Rcheck Warnings: 0