Package: mosaics Version: 2.44.0 Command: /home/biocbuild/R/R/bin/R CMD INSTALL mosaics StartedAt: 2025-02-10 20:25:11 -0000 (Mon, 10 Feb 2025) EndedAt: 2025-02-10 20:26:15 -0000 (Mon, 10 Feb 2025) EllapsedTime: 63.5 seconds RetCode: 0 Status: OK