Package: motifStack Version: 1.50.0 Command: rm -rf motifStack.buildbin-libdir && mkdir motifStack.buildbin-libdir && /Users/biocbuild/BBS/utils/build-universal.sh motifStack_1.50.0.tar.gz /Library/Frameworks/R.framework/Resources/bin/R motifStack.buildbin-libdir StartedAt: 2025-02-05 16:46:39 -0500 (Wed, 05 Feb 2025) EndedAt: 2025-02-05 16:47:45 -0500 (Wed, 05 Feb 2025) EllapsedTime: 65.8 seconds RetCode: 0 Status: OK PackageFile: motifStack_1.50.0.tgz PackageFileSize: 4.746 MiB