Package: motifStack Version: 1.50.0 Command: /Library/Frameworks/R.framework/Resources/bin/R CMD build --keep-empty-dirs --no-resave-data motifStack StartedAt: 2025-02-04 04:03:14 -0500 (Tue, 04 Feb 2025) EndedAt: 2025-02-04 04:05:48 -0500 (Tue, 04 Feb 2025) EllapsedTime: 154.5 seconds RetCode: 0 Status: OK PackageFile: motifStack_1.50.0.tar.gz PackageFileSize: 3.847 MiB