Package: motifStack Version: 1.50.0 Command: /Library/Frameworks/R.framework/Resources/bin/R CMD check --install=check:motifStack.install-out.txt --library=/Library/Frameworks/R.framework/Resources/library --no-vignettes --timings motifStack_1.50.0.tar.gz StartedAt: 2025-02-05 02:49:48 -0500 (Wed, 05 Feb 2025) EndedAt: 2025-02-05 02:56:19 -0500 (Wed, 05 Feb 2025) EllapsedTime: 390.3 seconds RetCode: 0 Status: OK CheckDir: motifStack.Rcheck Warnings: 0