Package: motifStack Version: 1.50.0 Command: /Library/Frameworks/R.framework/Resources/bin/R CMD INSTALL motifStack StartedAt: 2025-02-03 16:30:51 -0500 (Mon, 03 Feb 2025) EndedAt: 2025-02-03 16:31:50 -0500 (Mon, 03 Feb 2025) EllapsedTime: 59.3 seconds RetCode: 0 Status: OK