Package: motifStack Version: 1.50.0 Command: /home/biocbuild/R/R/bin/R CMD check --install=check:motifStack.install-out.txt --library=/home/biocbuild/R/R/site-library --no-vignettes --timings motifStack_1.50.0.tar.gz StartedAt: 2024-11-20 10:07:17 -0000 (Wed, 20 Nov 2024) EndedAt: 2024-11-20 10:14:47 -0000 (Wed, 20 Nov 2024) EllapsedTime: 450.8 seconds RetCode: 0 Status: OK CheckDir: motifStack.Rcheck Warnings: 0