Package: motifStack Version: 1.50.0 Command: rm -rf motifStack.buildbin-libdir && mkdir motifStack.buildbin-libdir && /Users/biocbuild/BBS/utils/build-universal.sh motifStack_1.50.0.tar.gz /Library/Frameworks/R.framework/Resources/bin/R motifStack.buildbin-libdir StartedAt: 2025-02-04 13:30:34 -0500 (Tue, 04 Feb 2025) EndedAt: 2025-02-04 13:33:35 -0500 (Tue, 04 Feb 2025) EllapsedTime: 181.1 seconds RetCode: 0 Status: OK PackageFile: motifStack_1.50.0.tgz PackageFileSize: 4.501 MiB