Package: motifStack Version: 1.50.0 Command: /Library/Frameworks/R.framework/Resources/bin/R CMD build --keep-empty-dirs --no-resave-data motifStack StartedAt: 2025-02-03 20:33:42 -0500 (Mon, 03 Feb 2025) EndedAt: 2025-02-03 20:39:41 -0500 (Mon, 03 Feb 2025) EllapsedTime: 358.8 seconds RetCode: 0 Status: OK PackageFile: motifStack_1.50.0.tar.gz PackageFileSize: 3.602 MiB