Package: motifStack Version: 1.50.0 Command: /Library/Frameworks/R.framework/Resources/bin/R CMD INSTALL motifStack StartedAt: 2025-02-03 15:59:51 -0500 (Mon, 03 Feb 2025) EndedAt: 2025-02-03 16:01:37 -0500 (Mon, 03 Feb 2025) EllapsedTime: 106.4 seconds RetCode: 0 Status: OK