Package: motifStack Version: 1.50.0 Command: /home/biocbuild/bbs-3.20-bioc/R/bin/R CMD build --keep-empty-dirs --no-resave-data --md5 motifStack StartedAt: 2025-02-10 18:13:19 -0500 (Mon, 10 Feb 2025) EndedAt: 2025-02-10 18:15:19 -0500 (Mon, 10 Feb 2025) EllapsedTime: 120.1 seconds RetCode: 0 Status: OK PackageFile: motifStack_1.50.0.tar.gz PackageFileSize: 1.915 MiB