Package: motifStack Version: 1.50.0 Command: rm -rf motifStack.buildbin-libdir && mkdir motifStack.buildbin-libdir && F:\biocbuild\bbs-3.20-bioc\R\bin\R.exe CMD INSTALL --build --library=motifStack.buildbin-libdir motifStack_1.50.0.tar.gz StartedAt: 2025-02-04 08:59:12 -0500 (Tue, 04 Feb 2025) EndedAt: 2025-02-04 09:00:50 -0500 (Tue, 04 Feb 2025) EllapsedTime: 98.6 seconds RetCode: 0 Status: OK PackageFile: motifStack_1.50.0.zip PackageFileSize: 1.441 MiB