Package: motifStack Version: 1.50.0 Command: chmod a+r motifStack -R && F:\biocbuild\bbs-3.20-bioc\R\bin\R.exe CMD build --keep-empty-dirs --no-resave-data motifStack StartedAt: 2025-02-03 20:32:58 -0500 (Mon, 03 Feb 2025) EndedAt: 2025-02-03 20:34:38 -0500 (Mon, 03 Feb 2025) EllapsedTime: 100.7 seconds RetCode: 0 Status: OK PackageFile: motifStack_1.50.0.tar.gz PackageFileSize: 561.6 KiB