Package: motifStack Version: 1.50.0 Command: F:\biocbuild\bbs-3.20-bioc\R\bin\R.exe CMD INSTALL motifStack StartedAt: 2025-02-10 16:15:25 -0500 (Mon, 10 Feb 2025) EndedAt: 2025-02-10 16:17:05 -0500 (Mon, 10 Feb 2025) EllapsedTime: 99.4 seconds RetCode: 0 Status: OK