Package: motifTestR Version: 1.2.1 Command: rm -rf motifTestR.buildbin-libdir && mkdir motifTestR.buildbin-libdir && /Users/biocbuild/BBS/utils/build-universal.sh motifTestR_1.2.1.tar.gz /Library/Frameworks/R.framework/Resources/bin/R motifTestR.buildbin-libdir StartedAt: 2025-02-04 13:30:35 -0500 (Tue, 04 Feb 2025) EndedAt: 2025-02-04 13:31:31 -0500 (Tue, 04 Feb 2025) EllapsedTime: 56.0 seconds RetCode: 0 Status: OK PackageFile: motifTestR_1.2.1.tgz PackageFileSize: 1.215 MiB