Package: motifTestR Version: 1.2.1 Command: /Library/Frameworks/R.framework/Resources/bin/R CMD build --keep-empty-dirs --no-resave-data motifTestR StartedAt: 2025-02-03 20:34:55 -0500 (Mon, 03 Feb 2025) EndedAt: 2025-02-03 20:38:18 -0500 (Mon, 03 Feb 2025) EllapsedTime: 203.7 seconds RetCode: 0 Status: OK PackageFile: motifTestR_1.2.1.tar.gz PackageFileSize: 1.131 MiB