Package: motifTestR Version: 1.2.1 Command: /Library/Frameworks/R.framework/Resources/bin/R CMD check --install=check:motifTestR.install-out.txt --library=/Library/Frameworks/R.framework/Resources/library --no-vignettes --timings motifTestR_1.2.1.tar.gz StartedAt: 2025-02-11 06:46:19 -0500 (Tue, 11 Feb 2025) EndedAt: 2025-02-11 07:00:52 -0500 (Tue, 11 Feb 2025) EllapsedTime: 873.6 seconds RetCode: 0 Status: OK CheckDir: motifTestR.Rcheck Warnings: 0