Package: motifTestR Version: 1.2.1 Command: /Library/Frameworks/R.framework/Resources/bin/R CMD INSTALL motifTestR StartedAt: 2025-02-03 15:26:51 -0500 (Mon, 03 Feb 2025) EndedAt: 2025-02-03 15:27:23 -0500 (Mon, 03 Feb 2025) EllapsedTime: 32.3 seconds RetCode: 0 Status: OK