Package: motifTestR Version: 1.2.1 Command: /home/biocbuild/bbs-3.20-bioc/R/bin/R CMD INSTALL motifTestR StartedAt: 2025-02-03 15:21:55 -0500 (Mon, 03 Feb 2025) EndedAt: 2025-02-03 15:22:09 -0500 (Mon, 03 Feb 2025) EllapsedTime: 13.4 seconds RetCode: 0 Status: OK