Package: motifTestR Version: 1.2.1 Command: chmod a+r motifTestR -R && F:\biocbuild\bbs-3.20-bioc\R\bin\R.exe CMD build --keep-empty-dirs --no-resave-data motifTestR StartedAt: 2025-02-03 20:32:59 -0500 (Mon, 03 Feb 2025) EndedAt: 2025-02-03 20:34:50 -0500 (Mon, 03 Feb 2025) EllapsedTime: 110.8 seconds RetCode: 0 Status: OK PackageFile: motifTestR_1.2.1.tar.gz PackageFileSize: 803.1 KiB